Workbook

Sheet IGF
A1: EXPENDITURE
A2: INTERNALLY GENERATED FUND (IGF) AND STOOL LAND REVENUES = (GH₵3,522,431.40)
A3: PROGRAMME : MANAGEMENT AND ADMINISTRATION
A4: SUB-PROGRAMME : SP1.1 General Administration
A5: BUDGET LINE | B5: CODE | C5: QTY | D5: UNIT COST (GH¢) | E5: TOTAL COST(GH¢) | F5: JUSTIFICATION
A6: Provision for Allowances/ Honorarium | B6: 2111248 | C6: 12 | D6: 500 | E6: =D6*C6 -> 6000 | F6: To cater for the allowance & honorarium for workdone
A7: Transfer Grant | B7: 2111243 | C7: 4 | D7: 10000 | E7: =D7*C7 -> 40000 | F7: To cater for Non-availability & grants
A8: Commissions | B8: 2111225 | C8: 12 | D8: 16700 | E8: =D8*C8 -> 200400 | F8: To pay for revenue consultants & commission collectors
A9: Contributions | B9: 2821010 | C9: 12 | D9: 5000 | E9: =C9*D9 -> 60000 | F9: To support in communities activities
A10: Donation | B10: 2821009 | C10: 12 | D10: 7000 | E10: =D10*C10 -> 84000 | F10: To support activities of organisations and groups
A11: Stationery | B11: 2210101 | C11: 2 | D11: 30000 | E11: =D11*C11 -> 60000 | F11: To procure stationery for office use
A12: Refreshment Items | B12: 2210103 | C12: 4 | D12: 5000 | E12: =C12*D12 -> 20000 | F12: Purchase of food stuffs to official guests
A13: Electricity charges | B13: 2210201 | C13: 12 | D13: 17000 | E13: =C13*D13 -> 204000 | F13: To pay for Electricity bills
A14: Water charges | B14: 2210202 | C14: 12 | D14: 600 | E14: =D14*C14 -> 7200 | F14: To pay for water bills
A15: Internet charges | B15: 2210203 | C15: 12 | D15: 400 | E15: =D15*C15 -> 4800 | F15: To pay for communication charges
A16: Postal charges | B16: 2210204 | C16: 12 | D16: 170 | E16: =D16*C16 -> 2040 | F16: To pay for postal charges
A17: Bank Charges | B17: 2211011 | C17: 1 | D17: 2000 | E17: =D17*C17 -> 2000 | F17: To cater for bank charges
A18: Hotel Accommodation | B18: 2210404 | C18: 12 | D18: 3750 | E18: =D18*C18 -> 45000 | F18: Accommodation for official guests
A19: Residential Accommodation | B19: 2210402 | C19: 4 | D19: 3000 | E19: =D19*C19 -> 12000 | F19: Rent of accommodation for newly posted staff
A20: Office Accommodation | B20: 2210401 | C20: 4 | D20: 3750 | E20: =D20*C20 -> 15000 | F20: Rent of Office for area councils, dept, unit, etc
A21: Rental of other Transport | B21: 2210406 | C21: 1 | D21: 32040 | E21: =D21*C21 -> 32040 | F21: To pay for rent of vehicles for official travels
A22: Local Travel Cost | B22: 2210511 | C22: 12 | D22: 7500 | E22: =C22*D22 -> 90000 | F22: T&T for workshops, meetings, monitoring etc
A23: Night Allowance | B23: 2210510 | C23: 12 | D23: 8500 | E23: =C23*D23 -> 102000 | F23: Allowance for spending a night out of the home
A24: Fuel & Rubricant | B24: 2210503 | C24: 12 | D24: 7000 | E24: =C24*D24 -> 84000 | F24: To cater for rubrication & routine servicing of official vehicles
A25: Maint. & Repairs of official vehicle | B25: 2210502 | C25: 12 | D25: 5000 | E25: =C25*D25 -> 60000 | F25: To cater for general maintenance & repairs of official vehicles
A26: Running Cost | B26: 2210505 | C26: 52 | D26: 3800 | E26: =C26*D26 -> 197600 | F26: Fuel for official vehicles
A27: Maintenace of office equipment | B27: 2210623 | C27: 12 | D27: 2000 | E27: =C27*D27 -> 24000 | F27: Repairs of office equipment
A28: Purchase of petty tools | B28: 2210120 | C28: 4 | D28: 750 | E28: =C28*D28 -> 3000 | F28: For locks, pins, extension boards
A29: Repairs of street light and Purchase of poles to communities | B29: 2210617 | C29: 4 | D29: 13750 | E29: =C29*D29 -> 55000 | F29: To repair of street lights in communities to make them safe at night.
A30: Refreshments | B30: 2210708 | C30: 52 | D30: 1300 | E30: =C30*D30 -> 67600 | F30: Refreshments for meetings, official guest,
A31: Provision for official Day Celebrations | B31: 2210902 | C31: 6 | D31: 2600 | E31: =C31*D31 -> 15600 | F31: Organization and celebration of all statutory occasions (May day, 6th March, )
A32: Staff Welfare | B32: 2731102 | C32: 4 | D32: 5000 | E32: =C32*D32 -> 20000 | F32: To promote the welfare of staff
A33: Bibiani/Bekwai market stores rehabilitation | B33: 3111304 | C33: 1 | D33: 100000 | E33: =C33*D33 -> 100000 | F33: To improve conditions of the market stores & promote their lifespan and enhance IGF mobilization
A34: Self-help & community initiative projects | B34: 2210108 | C34: 2 | D34: 29952.8 | E34: =C34*D34 -> 59905.6 | F34: To assist communities to complete their self-initiated projects
A35: Unplanned activities | B35: 2211202 | C35: 1 | D35: 104699.04 | E35: 50000 | F35: To cater for unbudgeted activities | G35: =E35+41456 -> 91456
A36: RADIO
A37: Procurement of Air conditioner(2.OHP) and Steel cabinet | B37: 3112212 | C37: 1 | D37: 3900 | E37: =D37*C37 -> 3900 | F37: The air conditioner is needed to cool the radio equipment and keep filed messages
A38: STATISTIC DEPARTMENT
A39: Conduct of monthly market readings at Sefwi Bekwai | B39: 2210511 | C39: 12 | D39: 250 | E39: =C39*D39 -> 3000 | F39: Payment of allowance for two statisticians and a driver
A40: Conduct of Municipal wide Business Registration update | B40: 2210709 | C40: 1 | D40: 5000 | E40: =D40*C40 -> 5000 | F40: the exercise will provide update to the existing database for the Assembly Annual Fee-Fixing
...

Sheet DACF and MP
A2: DISTRICT ASSEMBLY COMMON FUND (DACF) =(GH₵2,605,136.67)
A3: BUDGET LINE | B3: CODE | C3: QTY | D3: UNIT COST (GH¢) | E3: TOTAL COST(GH¢) | F3: JUSTIFICATION
A4: MANDATORY ALLOCATIONS
A5: Self-help and community initiated projects (5%) | B5: 2821010 | C5: 1 | D5: 130256.83 | E5: =D5*C5 -> 130256.83 | F5: To assist communities to complete their self-initiated projects
A6: Support for District Education Fund (2%)= 52,102.73
A7: Organise STMIE camping for 10 Selected Pupils in the Municipal | B7: 2821010 | C7: 1 | D7: 10000 | E7: =D7*C7 -> 10000 | F7: This will help to identify and nurture young innovators to add value to the country's resources
A8: Organise Sports Festival for Basic Schools in the Municipal and SHEP Exercise | B8: 2821010 | C8: 1 | D8: 15000 | E8: =D8*C8 -> 15000 | F8: The essence of sports is develop the motor skills, build Self - Confidence and harnes future athetes
A9: Workshop on Girl Child | B9: 2210710 | C9: 1 | D9: 7102.73 | E9: =D9*C9 -> 7102.73 | F9: This would ensure the retention of girl child in our schools
A10: Organize Mock Exams | B10: 2821010 | C10: 1 | D10: 15000 | E10: =D10*C10 -> 15000 | F10: Cultural activities expose pupils to their traditions and norms and build their confidence
A11: Monitoring of School Progress and Activities (My First Day at School) | B11: 2821010 | C11: 1 | D11: 5000 | E11: =C11*D11 -> 5000 | F11: To ensure strict Adherence to Professional Standards and Ethitics
A12: Support for Town/Zonal Councils (2%) = GH 52,102.73
A13: Support to Area council activities | B13: 2821010 | C13: 1 | D13: 52102.73 | E13: =D13*C13 -> 52102.73 | F13: For effective running and strenthening of zonal councils
A14: Support For Malaria programmes (0.5%) = GH 13,025.68
A15: Malaria programmes (0.5%) | B15: 2821010 | C15: 1 | D15: 13025.68 | E15: =D15*C15 -> 13025.68 | F15: To support malaria control program in the Municipality
A16: ECONOMIC
A17: TRADE AND INDUSTRY (BAC)
A18: Construction of Slaughter House (PPP) | B18: 3111257 | C18: 1 | D18: 250000 | E18: =C18*D18 -> 250000
A19: Rehabilitation of Bibiani and Bekwai Markets | B19: 3111354 | C19: 1 | D19: 100000 | E19: =C19*D19 -> 100000 | F19: To enhance economic activities.
A20: Construction of 20No. Market shed at Wenchi | B20: 3111354 | C20: 1 | D20: 200000 | E20: =C20*D20 -> 200000 | F20: To enhance economic activities.
A21: Support to Local Economic Development | B21: 2821010 | C21: 1 | D21: 50000 | E21: =C21*D21 -> 50000
A22: ENERGY
A23: Purcahse of Generator | B23: 3112206 | C23: 1 | D23: 50000 | E23: =C23*D23 -> 50000
A24: Supply,Installation and maintenance of street lights | B24: 2210617 | C24: 1 | D24: 100000 | E24: =D24*C24 -> 100000 | F24: To repair of street lights in communities to make them safe at night.
A25: AGRICULTURE
A26: Organization of annual Farmers Day celebration | B26: 2210902 | C26: 1 | D26: 70000 | E26: =D26*C26 -> 70000 | F26: Support to the Agric Dept. for the Farmers Day celebration in the district
A27: Support for planting for food, jobs & investment and other agricultural programmes | B27: 2821010 | C27: 1 | D27: 55000 | E27: =D27*C27 -> 55000 | F27: To support planting for food, jobs & investment activities through technical Support
A28: SERVICE
A29: Valuation & Re- valuation of properties | B29: 2210908 | C29: 1 | D29: 40000 | E29: =D29*C29 -> 40000 | F29: To re-value residential and commecial properties in the Municipality
A30: Provision for official Day Celebrations | B30: 2210902 | C30: 2 | D30: 40000 | E30: =D30*C30 -> 80000 | F30: Organization and celebration of all statutory occasions
A31: Support to other Departments of the Assembly | B31: 2821010 | C31: 1 | D31: 40000 | E31: =D31*C31 -> 40000 | F31: Fire service,Police, Immigration, Forestry etc.
A32: Support for MUSEC activities | B32: 2210709 | C32: 1 | D32: 56953.47 | E32: =D32*C32 -> 56953.47 | F32: To help combact crimes in the Municipality
A33: Support to 2024 Election Activities | B33: 2821010 | C33: 1 | D33: 50000 | E33: =D33*C33 -> 50000 | F33: To maintain peace before,during and after election.
A34: Street naming and property numbering | B34: 2821018 | C34: 1 | D34: 40000 | E34: =D34*C34 -> 40000 | F34: To improve accessibility in the town and improve IGF
A35: Bank Charges | B35: 2211101 | C35: 1 | D35: 2000 | E35: =D35*C35 -> 2000 | F35: To cater for bank charges
A36: Support to disaster victims | B36: 2821010 | C36: 1 | D36: 40000 | E36: 40000 | F36: To enable NADMO respond to and mitigate the impact of disasters on people, and to celebrate World Disaster Day
A37: ROADS
A38: Reshaping/Rehabilitation of 100km Feeder roads in the Municipal | B38: 2210601 | C38: 1 | D38: 216031.48 | E38: 216031.48 | F38: To cater for fuel and lubricants to undertake reshaping of 100km feeder roads in the municipality and also build some culverts
A39: SOCIAL SECTOR
A40: HEALTH
A41: Support to HIV/AIDs related activities | B41: 2210711 | C41: 1 | D41: 19249.41 | E41: =C41*D41 -> 19249.41 | F41: To support HIV/AIDs control program in the Municipality
...

Sheet DACF-RFG
A1: EXPENDITURE
A2: DACF-RFG (GH₵ 996,270.10.00)
A3: BUDGET LINES | B3: CODES | C3: QTY | D3: UNIT COST | E3: TOTAL COST | F3: JUSIFICATION
A4: SUB-PROGRAMME : SP2.1 Education,Youth & Sports And Library Services
A5: Construction of 1No. 3unit Classroom Block with Store,5-seater Pour flush toilet faciliy and 120 No. Dual Desks for Debiso m/A | C5: 1 | D5: 495774.1 | E5: =C5*D5 -> 495774.1 | F5: To enhance good teaching and learning
A6: Supply of 400 No. Dual Desk to selected Basic Schools. | C6: 1 | D6: 180000 | E6: =C6*D6 -> 180000 | F6: To enhance good teaching and Learning
A7: Construction of 1No.6 Unit Classroom Block with Office,Store and 5-Seater W/C at Queens SHS | D7: 270000 | E7: 270000 | F7: To enhance good teaching and Learning
A8: SUB-PROGRAMME: SP2.2: Public Health Services and Management
A9: Procurement of 8 Delivery Sets for selected CHPS Compunds | C9: 1 | D9: 50496 | E9: =C9*D9 -> 50496 | F9: To bridge the geographical gap in access to health service delivery
E10: =SUM(E5:E9) -> 996270.1

Sheet PWD
A1: EXPENDITURE
A2: PEOPLE WITH DISABILITY TRANSFER (PWDs) GH¢350,000.00
A3: BUDGET LINE | B3: CODE | C3: QTY | D3: UNIT COST | E3: TOTAL COST | F3: JUSTIFICATION
A4: PROGRAMME : SOCIAL SERVICES DELIVERY
A5: SUB-PROGRAMME SP2.5 Social Welfare and Community Services
A6: Allowances | B6: 2210709 | C6: 1 | D6: 9760 | E6: =D6*C6 -> 9760 | F6: To cater for committee's sitting allowance during meetings, allowance for monitoring, allowance for advocacy, workshops/meetings, and motivation for GNAD interpreter
A7: T & T | B7: 2210509 | C7: 1 | D7: 9380 | E7: =D7*C7 -> 9380 | F7: To cater for Needs assessment and Monitoring of PWDs activities, meetings / conferences / workshops/ celebrations and advocacy
A8: Feeding/Refreshment/Water | B8: 2210708 | C8: 1 | D8: 25000 | E8: =D8*C8 -> 25000 | F8: To cater for DFMC's meetings, GFDO's meetings/conferences/workshops/celebrations
A9: Fuel/Hiring of vehicle | B9: 2821009 | C9: 1 | D9: 10000 | E9: =D9*C9 -> 10000 | F9: To cater for Needs assessment and Monitoring of PWDs activities
A10: Office equipment/item | B10: 2821009 | C10: 1 | D10: 4000 | E10: =D10*C10 -> 4000 | F10: To enable desk office carry out PWDs activities effectively and efficiently
A11: Accommodation/Workshops | B11: 2210404 | C11: 1 | D11: 50000 | E11: =D11*C11 -> 50000 | F11: To cater for DFMC members & GFDO's executive Regional and National meetings / conferences/ workshops / celebrations
A12: Medical support | B12: 2821009 | C12: 1 | D12: 21360 | E12: =D12*C12 -> 21360 | F12: To cater for PWDs medical expenses.
A13: Assistive devices | B13: 2821009 | C13: 1 | D13: 10000 | E13: =D13*C13 -> 10000 | F13: To aid the mobility of PWDs
A14: Educational support | B14: 2821009 | C14: 1 | D14: 50000 | E14: =D14*C14 -> 50000 | F14: To support PWDs educational expenses
A15: Apprenticeship support | B15: 2821009 | C15: 1 | D15: 15000 | E15: =D15*C15 -> 15000 | F15: To support PWDs who want to learn a skill/vocation
A16: Income generation activities | B16: 2821009 | C16: 1 | D16: 120000 | E16: =D16*C16 -> 120000 | F16: To establish PWDs in income-generating activities as a start-up or top-up support
A17: Celebration of White Cane & Disability days | B17: 2210711 | C17: 1 | D17: 4000 | E17: =D17*C17 -> 4000 | F17: To create public awareness on issues of disability
... A19: Advocacy/ public education | B19: 2210711 | C19: 1 | D19: 20000 | E19: =D19*C19 -> 20000 | F19: To create public awareness on issues of disability
E20: =SUM(E6:E19) -> 350000

Sheet GoG
A1: EXPENDITURE
A2: GoG TRANSFERS
A3: BUDGET LINE | B3: CODE | C3: QTY | D3: UNIT COST | E3: TOTAL COST GoG | F3: JUSTIFICATION
A4: PROGRAMME : MANAGEMENT AND ADMINISTRATION
A5: SUB-PROGRAMME : SP1.1 General Administration
A6: Established Posts (GoG Paid Salaries) | B6: 2111001 | C6: 12 | D6: 382939.37 | E6: =C6*D6 -> 4595272.5 | F6: To pay salaries of Established Positions
A7: SUB-PROGRAMME: SP1.3 Human Resource Management
A8: Procurement of Office Equipment (Workstation) | B8: 2210102 | C8: 1 | D8: 6000 | E8: =C8*D8 -> 6000 | F8: To help work effectively
A9: Procure 1No. Laptop | B9: 2210102 | C9: 1 | D9: 4000 | E9: =C9*D9 -> 4000 | F9: To help work effectively
E10: =SUM(E8:E9) -> 10000
A11: SUB-PROGRAMME: SP1.4 Planning, Budgeting, Monitoring and Evaluation and Statistics
A12: Purchase of 1 laptop and Printer | B12: 2210102 | C12: 1 | D12: 7500 | E12: =C12*D12 -> 7500 | F12: To help work effectively
A13: Organize traning programme for HODS and Zonal Councils on Basic statistics analysis | B13: 2210702 | C13: 1 | D13: 2500 | E13: =C13*D13 -> 2500 | F13: To help work effectively
E14: =SUM(E12:E13) -> 10000
A15: PROGRAMME: SOCIAL SERVICES DELIVERY
A16: SUB-PROGRAMME: SP2.5 Social Welfare and Community Services
A17: Organize Sensitization Programme on Child Labour and GBV | B17: 2210711 | C17: 2 | D17: 2000 | E17: =D17*C17 -> 4000
A18: Monitoring of Flagship Programmes eg. LEAP | B18: 2210509 | C18: 4 | D18: 500 | E18: =D18*C18 -> 2000
A19: Fuel | B19: 2210505 | C19: 4 | D19: 350 | E19: =D19*C19 -> 1400
A20: Maintenance of Office Equipment | B20: 2210623 | C20: 1 | D20: 600 | E20: =D20*C20 -> 600
A21: Purchase of 1 laptop | B21: 2210623 | C21: 1 | D21: 9000 | E21: =C21*D21 -> 9000
A22: Purchase of 2 Visitor's chair | B22: 2210102 | C22: 2 | D22: 2000 | E22: =C22*D22 -> 4000
A23: Purchase of Office equipment | B23: 2210102 | C23: 1 | D23: 4000 | E23: =D23*C23 -> 4000
E24: =SUM(E17:E23) -> 25000
A25: PROGRAMME : INFRASTRUCTURE DELIVERY AND MANAGEMENT
A26: SUB-PROGRAMME : SP3.1 Roads and Transport services GH₵30,000.00
A27: Departmental Meetings and Workshops | B27: 2210709 | C27: 4 | D27: 500 | E27: =D27*C27 -> 2000 | H27: =G27/4 -> 0
A28: Local travel cost for data collection and inventory | B28: 2210511 | C28: 2 | D28: 2000 | E28: =D28*C28 -> 4000 | H28: =G28/4 -> 0
A29: Fuel &Lubricant | B29: 2210503 | C29: 4 | D29: 4000 | E29: =D29*C29 -> 16000 | H29: =G29/4 -> 0
A30: Office equipment and logistics | B30: 2210102 | C30: 4 | D30: 2000 | E30: =D30*C30 -> 8000 | H30: =G30/4 -> 0
A32: SUB-PROGRAMME : SP3.2 Physical and Spatial Planning Development GH₵18,000.00
A33: Procurement of office equipment | B33: 2210102 | C33: 1 | D33: 18000 | E33: =D33*C33 -> 18000 | F33: Tools for Town & country activities
E34: =SUM(E33) -> 18000
A35: SUB-PROGRAMME:SP3:3 Public Works, Rural Housing and Water Development GH₵20,000.00
A36: Office equipment and logistics | B36: 2210102 | C36: 1 | D36: 4000 | E36: =C36*D36 -> 4000 | F36: To procure printer to enhance productivity
A37: Data Collection on Temporal Structures | C37: 1 | D37: 3000 | E37: =C37*D37 -> 3000
A38: Monitoring & Supervision Execise | C38: 1 | D38: 13000 | E38: =C38*D38 -> 13000
A39: PROGRAMME: P4. ECONOMIC DEVELOPMENT
A40: SP4.1 Agricultural Services and Management
A41: Conduct one demonstration set up by 7 AEAs | B41: 2210711 | C41: 7 | D41: 500 | E41: =C41*D41 -> 3500 | F41: Agricultural and Rural Development
...

Sheet MDF
A1: EXPENDITURE
A2: Mineral Development Fund (GH¢2,185,427.85)
A3: BUDGET LINE | B3: CODE | C3: QTY | D3: UNIT COST | E3: TOTAL COST | F3: JUSTIFICATION | H3: 1949174
A4: SUB PROGRAMME:SP1.1 General Administration
A5: Running Cost | B5: 2210505 | C5: 12 | D5: 7507 | E5: =D5*C5 -> 90084 | F5: Fuel for official vehicles
A6: Refreshments | B6: 2210708 | C6: 4 | D6: 5000 | E6: =D6*C6 -> 20000 | F6: Refreshments for meetings
A7: Meetings/Conference/Workshops | B7: 2210709 | C7: 4 | D7: 6000 | E7: =D7*C7 -> 24000 | F7: To enable the Assembly orgainise its various meetings
A8: Data collection and property updating | B8: 2210511 | C8: 1 | D8: 35000 | E8: =D8*C8 -> 35000 | F8: To update ratable properties (Moveable & Inmoveable)
A9: Publicity/Advertisement | B9: 2210910 | C9: 2 | D9: 1250 | E9: =D9*C9 -> 2500 | F9: To enable the Assembly advertise for its projects in dailies & websites
A10: Maintenance and repairs of official vehicle | B10: 2210502 | C10: 4 | D10: 6500 | E10: =D10*C10 -> 26000 | F10: To cater for the routine maintenance of official vehicles
A11: SUB-PROGRAMME:SP3.3 Public Works,Rural Housing and water Management
A12: Rehabilitation/Reshaping of feeder roads (40km) | B12: 3111360 | C12: 4 | D12: 25000 | E12: =D12*C12 -> 100000 | F12: To create access
A13: SUB-PROGRAMME:SP2.1Education,Youth & Sports and Library Services
A14: Construction of 1No. 6unit classroom block with Office,Store and 5-Seater W/C at Bibiani | B14: 3111256 | C14: 1 | D14: 1200000 | E14: =D14*C14 -> 1200000 | F14: To improve quality of teaching and learning
A15: Construction of 1No. 3unit classroom block with Office,Store and 5-Seater W/C at Hwenapori JHS | B15: 3111256 | C15: 1 | D15: 550000 | E15: =D15*C15 -> 550000 | F15: To improve quality of teaching and learning
A16: SP2.3 Environmental Health and sanitation Services
A17: Renovation of New Station Urinal | B17: 3111353 | C17: 1 | D17: 30795.97 | E17: =D17*C17 -> 30795.97 | F17: To improve on the hygienic condition
A18: Train farmers on climate smart agriculture | B18: 2210711 | C18: 1 | D18: 15000 | E18: =D18*C18 -> 15000 | F18: To ensure sustainable agriculture
A19: Intensify public awareness on climate change | B19: 2210711 | C19: 1 | D19: 20000 | E19: =D19*C19 -> 20000 | F19: To enhance climate change activities
A20: Support forestry commission to monitor mining and logging | B20: 2210711 | C20: 1 | D20: 30000 | E20: =D20*C20 -> 30000
A21: SUB-PROGRAMMESP2.5 Social Welfare and Community Services
A22: Train and empower 20 women in the Municipality | B22: 2210710 | C22: 1 | D22: 32047.88 | E22: =C22*D22 -> 32047.88 | F22: To empower women
A23: Sensitize women on gender & social issues | B23: 2210711 | C23: 4 | D23: 2500 | E23: =D23*C23 -> 10000 | F23: To bridge the gap between men and women in development
E24: =SUM(E5:E23) -> 2185427.8

Sheet All Funding Source
A2: REVENUE | E2: GOG G&S
A3: ITEM | B3: BUDGET | D3: HR | E3: 10000
A4: IGF | B4: 2,554.531.40 | D4: STATISTICS | E4: 10000
A5: Stool Land | B5: 967600 | D5: CDSW | E5: 25000
A6: Compensation Transfer | B6: 4595272.5 | D6: URBAN ROAD | E6: 30000
A7: Goods and Services Transfer | B7: 143000 | D7: PHYSICAL PLAN. | E7: 18000
A8: Assets Transfer | B8: 25180 | D8: WORKS | E8: 20000
A9: DACF | B9: 2605136.7 | D9: AGRIC DEPT. | E9: 30000
A10: MP-CF | B10: 600000 | E10: =SUM(E3:E9) -> 143000
A11: PWD-CF | B11: 300000
A12: DACF-RFG | B12: 996270
A13: Other Transfers
A14: UNICEF | B14: 30000
A15: MDF | B15: 2185427.9
A16: Total | B16: =SUM(B5:B15) -> 12447887

Sheet Sheet2
A2: =IGF!E120 -> 3562431.4
A3: ='DACF and MP'!E72 -> 2605136.7
A4: ='DACF and MP'!E82 -> 600000
A5: ='DACF-RFG'!#REF! -> #REF!
A6: =PWD!E20 -> 350000
A7: =GoG!E6 -> 4595272.5
A8: 25180
A9: 89000 | B9: =A7+A8+A9 -> 4709452.5
A10: =#REF! -> #REF!
A11: =MDF!E24 -> 2185427.8
A12: =SUM(A2:A11) -> #REF!

Sheet 2023 Composit
A2: EXPENDITURE
A3: INTERNALLY GENERATED FUND (IGF) AND STOOL LAND REVENUES = (GH₵3,522,431.40)
A4: PROGRAMME : MANAGEMENT AND ADMINISTRATION
A5: SUB-PROGRAMME : SP1.1 General Administration
A6: BUDGET LINE | B6: CODE | C6: QTY | D6: UNIT COST (GH¢) | E6: TOTAL COST(GH¢) | F6: JUSTIFICATION
A7: Provision for Allowances/ Honorarium | B7: 2111248 | C7: 12 | D7: 500 | E7: =D7*C7 -> 6000 | F7: To cater for the allowance & honorarium for workdone
A8: Transfer Grant | B8: 2111243 | C8: 4 | D8: 10000 | E8: =D8*C8 -> 40000 | F8: To cater for Non-availability & grants
A9: Commissions | B9: 2111225 | C9: 12 | D9: 16700 | E9: =D9*C9 -> 200400 | F9: To pay for revenue consultants & commission collectors
A10: Contributions | B10: 2821010 | C10: 12 | D10: 5000 | E10: =D10*C10 -> 60000 | F10: To support in communities activities
A11: Donation | B11: 2821009 | C11: 12 | D11: 7000 | E11: =D11*C11 -> 84000 | F11: To support activities of organisations and groups
A12: Stationery | B12: 2210101 | C12: 2 | D12: 30000 | E12: =D12*C12 -> 60000 | F12: To procure stationery for office use
A13: Refreshment Items | B13: 2210103 | C13: 4 | D13: 5000 | E13: =C13*D13 -> 20000 | F13: Purchase of food stuffs to official guests
A14: Electricity charges | B14: 2210201 | C14: 12 | D14: 17000 | E14: =C14*D14 -> 204000 | F14: To pay for Electricity bills
A15: Water charges | B15: 2210202 | C15: 12 | D15: 600 | E15: =D15*C15 -> 7200 | F15: To pay for water bills
A16: Internet charges | B16: 2210203 | C16: 12 | D16: 400 | E16: =D16*C16 -> 4800 | F16: To pay for communication charges
A17: Postal charges | B17: 2210204 | C17: 12 | D17: 170 | E17: =D17*C17 -> 2040 | F17: To pay for postal charges
A18: Bank Charges | B18: 2211011 | C18: 1 | D18: 2000 | E18: =D18*C18 -> 2000 | F18: To cater for bank charges
A19: Hotel Accommodation | B19: 2210404 | C19: 12 | D19: 3750 | E19: =D19*C19 -> 45000 | F19: Accommodation for official guests
A20: Residential Accommodation | B20: 2210402 | C20: 4 | D20: 3000 | E20: =D20*C20 -> 12000 | F20: Rent of accommodation for newly posted staff
A21: Office Accommodation | B21: 2210401 | C21: 4 | D21: 3750 | E21: =D21*C21 -> 15000 | F21: Rent of Office for area councils, dept, unit, etc
A22: Rental of other Transport | B22: 2210406 | C22: 1 | D22: 32040 | E22: =D22*C22 -> 32040 | F22: To pay for rent of vehicles for official travels
A23: Local Travel Cost | B23: 2210511 | C23: 12 | D23: 7500 | E23: =C23*D23 -> 90000 | F23: T&T for workshops, meetings, monitoring etc
A24: Night Allowance | B24: 2210510 | C24: 12 | D24: 8500 | E24: =C24*D24 -> 102000 | F24: Allowance for spending a night out of the home
A25: Fuel & Rubricant | B25: 2210503 | C25: 12 | D25: 7000 | E25: =C25*D25 -> 84000 | F25: To cater for rubrication & routine servicing of official vehicles
A26: Maint. & Repairs of official vehicle | B26: 2210502 | C26: 12 | D26: 5000 | E26: =C26*D26 -> 60000 | F26: To cater for general maintenance & repairs of official vehicles
A27: Running Cost | B27: 2210505 | C27: 52 | D27: 3800 | E27: =C27*D27 -> 197600 | F27: Fuel for official vehicles
A28: Maintenace of office equipment | B28: 2210623 | C28: 12 | D28: 2000 | E28: =C28*D28 -> 24000 | F28: Repairs of office equipment
A29: Purchase of petty tools | B29: 2210120 | C29: 4 | D29: 750 | E29: =C29*D29 -> 3000 | F29: For locks, pins, extension boards
A30: Repairs of street light and Purchase of poles to communities | B30: 2210617 | C30: 4 | D30: 13750 | E30: =C30*D30 -> 55000 | F30: To repair of street lights in communities to make them safe at night.
A31: Refreshments | B31: 2210708 | C31: 52 | D31: 1300 | E31: =C31*D31 -> 67600 | F31: Refreshments for meetings, official guest,
A32: Provision for official Day Celebrations | B32: 2210902 | C32: 6 | D32: 2600 | E32: =C32*D32 -> 15600 | F32: Organization and celebration of all statutory occasions (May day, 6th March, )
A33: Staff Welfare | B33: 2731102 | C33: 4 | D33: 5000 | E33: =C33*D33 -> 20000 | F33: To promote the welfare of staff
A34: Bibiani/Bekwai market stores rehabilitation | B34: 3111304 | C34: 1 | D34: 100000 | E34: =C34*D34 -> 100000 | F34: To improve conditions of the market stores & promote their lifespan and enhance IGF mobilization
A35: Self-help & community initiative projects | B35: 2210108 | C35: 2 | D35: 29952.8 | E35: =C35*D35 -> 59905.6 | F35: To assist communities to complete their self-initiated projects
A36: Unplanned activities | B36: 2211202 | C36: 1 | D36: 104699.04 | E36: 50000 | F36: To cater for unbudgeted activities
A37: RADIO
A38: Procurement of Air conditioner(2.OHP) and Steel cabinet | B38: 3112212 | C38: 1 | D38: 3900 | E38: =D38*C38 -> 3900 | F38: The air conditioner is needed to cool the radio equipment and keep filed messages
A39: STATISTIC DEPARTMENT
A40: Conduct of monthly market readings at Sefwi Bekwai | B40: 2210511 | C40: 12 | D40: 250 | E40: =C40*D40 -> 3000 | F40: Payment of allowance for two statisticians and a driver
A41: Conduct of Municipal wide Business Registration update | B41: 2210709 | C41: 1 | D41: 5000 | E41: =D41*C41 -> 5000 | F41: the exercise will provide update to the existing database for the Assembly Annual Fee-Fixing
...

Sheet Sheet1
A2: DISTRICT ASSEMBLY COMMON FUND (DACF) =(GH₵2,605,136.67)
A3: BUDGET LINE | B3: CODE | C3: QTY | D3: UNIT COST (GH¢) | E3: TOTAL COST(GH¢) | F3: JUSTIFICATION
A4: MANDATORY ALLOCATIONS
A5: Self-help and community initiated projects (5%) | B5: 2821010 | C5: 1 | D5: 130256.83 | E5: =D5*C5 -> 130256.83 | F5: To assist communities to complete their self-initiated projects
A6: Support for District Education Fund (2%)= 52,102.73
A7: Organise STMIE camping for 10 Selected Pupils in the Municipal | B7: 2821010 | C7: 1 | D7: 7348.65 | E7: =D7*C7 -> 7348.65 | F7: This will help to identify and nurture young innovators to add value to the country's resources
A8: Organise Sports Festival for Basic Schools in the Municipal and SHEP Exercise | B8: 2821010 | C8: 1 | D8: 10000 | E8: =D8*C8 -> 10000 | F8: The essence of sports is develop the motor skills, build Self - Confidence and harnes future athetes
A9: Workshop on Girl Child | B9: 2210710 | C9: 1 | D9: 1754.08 | E9: =D9*C9 -> 1754.08 | F9: This would ensure the retention of girl child in our schools
A10: Organize Mock Exams | B10: 2821010 | C10: 1 | D10: 18000 | E10: =D10*C10 -> 18000 | F10: Cultural activities expose pupils to their traditions and norms and build their confidence
A11: Monitoring of School Progress and Activities (My First Day at School) | B11: 2821010 | C11: 1 | D11: 15000 | E11: =C11*D11 -> 15000 | F11: To ensure strict Adherence to Professional Standards and Ethitics
A12: Support for Town/Zonal Councils (2%) = GH 52,102.73
A13: Support to Area council activities | B13: 2821010 | C13: 1 | D13: 52102.73 | E13: =D13*C13 -> 52102.73 | F13: For effective running and strenthening of zonal councils
A14: Support For Malaria programmes (0.5%) = GH 13,025.68
A15: Malaria programmes (0.5%) | B15: 2821010 | C15: 1 | D15: 13025.68 | E15: =D15*C15 -> 13025.68 | F15: To support malaria control program in the Municipality
A16: ECONOMIC
A17: TRADE AND INDUSTRY (BAC)
A18: Construction of Slaughter House (PPP) | B18: 3111257 | C18: 1 | D18: 100000 | E18: =C18*D18 -> 100000
A19: Rehabilitation of Bibiani and Bekwai Markets | B19: 3111354 | C19: 1 | D19: 100000 | E19: =C19*D19 -> 100000 | F19: To boost economic activities in the Municipality
A20: Construction of 20 units market Stalls at Wenchi | B20: 3111354 | C20: 1 | D20: 335000 | E20: =C20*D20 -> 335000 | F20: To boost economic activities in the Municipality
A21: Support to Local Economic Development | B21: 2821010 | C21: 1 | D21: 50984.95 | E21: =C21*D21 -> 50984.95 | F21: To boost economic activities in the Municipality | H21: 50985.35
A22: ENERGY | H22: 0.4
A23: Purcahse of Generator | B23: 3112206 | C23: 1 | D23: 50000 | E23: =C23*D23 -> 50000 | H23: =H21-H22 -> 50984.95
A24: Supply,Installation and maintenance of street lights | B24: 2210617 | C24: 1 | D24: 100000 | E24: =D24*C24 -> 100000 | F24: To repair of street lights in communities to make them safe at night.
A25: AGRICULTURE
A26: Support to Agricultural Extension Activities (Monitoring and Dissemiation of extention information) | B26: 2210711 | C26: 1 | D26: 25000 | E26: =C26*D26 -> 25000 | F26: To increase in agriculrural productivity
A27: Organization of annual Farmers Day celebration | B27: 2210902 | C27: 1 | D27: 50000 | E27: =D27*C27 -> 50000 | F27: Support to the Agric Dept. for the Farmers Day celebration in the district
A28: Support for planting for food, jobs & investment and other agricultural programmes | B28: 2821010 | C28: 1 | D28: 55000 | E28: =D28*C28 -> 55000 | F28: To support planting for food, jobs & investment activities
A29: SERVICE
A30: Valuation & Re- valuation of properties | B30: 2210908 | C30: 1 | D30: 40000 | E30: =D30*C30 -> 40000 | F30: To re-value residential and commecial properties in the Municipality
A31: Provision for official Day Celebrations | B31: 2210902 | C31: 2 | D31: 50000 | E31: =D31*C31 -> 100000 | F31: Organization and celebration of all statutory occasions
A32: Support to other Departments of the Assembly | B32: 2821010 | C32: 1 | D32: 40000 | E32: =D32*C32 -> 40000 | F32: Fire service,Police, Immigration, Forestry etc.
A33: Support for MUSEC activities and Election Contigency | B33: 2210709 | C33: 1 | D33: 95000 | E33: =D33*C33 -> 95000 | F33: To help combact crimes in the Municipality and maintain peace.
A34: Protocol Services | B34: 2210901 | C34: 2 | D34: 40000 | E34: =D34*C34 -> 80000 | F34: To cater for external Monitoring teams and other official activities
A36: Street naming and property numbering | B36: 2821018 | C36: 1 | D36: 40000 | E36: =D36*C36 -> 40000 | F36: To improve accessibility in the town and improve IGF
A37: Bank Charges | B37: 2211101 | C37: 1 | D37: 1000 | E37: =D37*C37 -> 1000 | F37: To cater for bank charges
A38: Support to disaster victims | B38: 2821010 | C38: 1 | D38: 40000 | E38: 40000 | F38: To enable NADMO respond to and mitigate the impact of disasters on people, and to celebrate World Disaster Day
A39: ROADS
A40: Reshaping/Rehabilitation of 50km Feeder roads in the Municipal | B40: 2210601 | C40: 1 | D40: 200000 | E40: =D40*C40 -> 200000 | F40: To cater for fuel and lubricants to undertake reshaping of 100km feeder roads in the municipality and also build some culverts
A41: SOCIAL SECTOR
A42: HEALTH
...
